{"text_format":"1","workbook":"xlsx","n_sheets":4,"sheets":["Schedule","swap","filter","Required"],"not_rendered":{"charts":0,"images":0,"macros":1,"external_links":0,"defined_names":4,"comments":0,"pivot_tables":0},"unopened":[],"bounds":{"document_bytes":16777216,"sheet_cells":100000,"rows_first":2000,"rows_last":500,"rows_between":2000,"halvings":0,"cell_chars":16384,"cell_head_chars":4096},"cells_cut":0,"cells_raw":0,"read":"whole","date_system":"1900"}

{"sheet":"Schedule","index":0,"n_rows":66,"n_cols":26,"rows_kept":66,"cut":false,"hidden":false,"merged":[[0,0,0,9]]}
[{"$f":"\"Schedule Week \"&WEEKNUM(K1)","v":"Schedule Week 48"},null,null,null,null,null,null,null,null,null,"2022-11-26","2022-11-27","2022-11-28","2022-11-29","2022-11-30","2022-12-01","2022-12-02"]
["#","FT","ID","TL","Queue","Contract","Gender","HR ID","Agents Status","site",{"$f":"TEXT(K1,\"DDD\")","v":"Sat"},{"$f":"TEXT(L1,\"DDD\")","v":"Sun"},"Mon","Tue","Wed","Thu","Fri","OFF","Annual"]
[1,"NATHANIEL FORD",null,null,"Non Voice","FT","F",null,"Old","new site","08:30:00","08:30:00","15:00:00","15:00:00","15:30:00","08:30:00","OFF",{"$f":"COUNTIF(K3:Q3,\"OFF\")","v":1},{"$f":"COUNTIF(K3:Q3,\"AL\")","v":0}]
[{"$f":"A3+1","v":2},"GARY JIMENEZ",null,null,"Non Voice","FT","F",null,"Old",null,"10:00:00","08:30:00","08:30:00","08:30:00","08:00:00","08:30:00","OFF",1,0]
[3,"ALBERT PARDINI",null,null,"Non Voice","FT","F",null,"Old",null,"15:00:00","15:30:00","15:30:00","15:30:00","08:30:00","OFF","OFF",2,0]
[4,"CHRISTOPHER CHONG",null,null,"Non Voice","FT","F",null,"Old",null,"08:30:00","08:00:00","08:30:00","15:00:00","15:30:00","15:30:00","OFF",1,0]
[5,"PATRICK GARDNER",null,null,"Non Voice","FT","F",null,"Old",null,"08:30:00","08:00:00","15:30:00","15:00:00","08:30:00","15:30:00","13:00:00",0,0]
[6,"DAVID SULLIVAN",null,null,"Non Voice","FT","F",null,"Old",null,"15:00:00","15:30:00","15:30:00","15:30:00","AL","10:00:00","OFF",1,1]
[7,"ALSON LEE",null,null,"Non Voice","FT","F",null,"Between",null,"08:00:00","15:00:00","08:00:00","08:30:00","15:00:00","08:30:00","OFF",1,0]
[8,"DAVID KUSHNER",null,null,"Non Voice","FT","F",null,"Between",null,"08:00:00","15:30:00","08:00:00","08:00:00","15:00:00","08:30:00","OFF",{"$f":"COUNTIF(K10:Q10,\"OFF\")","v":1},{"$f":"COUNTIF(K10:Q10,\"AL\")","v":0},null,null,null,null,null,null,"`"]
[9,"MICHAEL MORRIS",null,null,"Non Voice","FT","F",null,"Between",null,"08:30:00","08:30:00","08:30:00","15:00:00","08:30:00","15:00:00","OFF",{"$f":"COUNTIF(K11:Q11,\"OFF\")","v":1},{"$f":"COUNTIF(K11:Q11,\"AL\")","v":0}]
[10,"JOANNE HAYES-WHITE",null,null,"Non Voice","FT","F",null,"Between",null,"15:30:00","08:00:00","08:30:00","15:30:00","15:00:00","15:30:00","OFF",{"$f":"COUNTIF(K12:Q12,\"OFF\")","v":1},{"$f":"COUNTIF(K12:Q12,\"AL\")","v":0}]
[11,"ARTHUR KENNEY",null,null,"Non Voice","FT","F",null,"Between",null,"15:00:00","15:00:00","15:30:00","08:30:00","15:00:00","08:30:00","OFF",{"$f":"COUNTIF(K13:Q13,\"OFF\")","v":1},{"$f":"COUNTIF(K13:Q13,\"AL\")","v":0}]
[12,"PATRICIA JACKSON",null,null,"Non Voice","FT","F",null,"New",null,"08:00:00","08:30:00","08:30:00","08:00:00","08:30:00","15:00:00","OFF",1,0]
[13,"EDWARD HARRINGTON",null,null,"Non Voice","FT","F",null,"New","new site","15:30:00","15:30:00","15:30:00","15:30:00","15:30:00","08:00:00","OFF",1,0]
[14,"JOHN MARTIN",null,null,"Non Voice","FT","F",null,"Old","new site","15:30:00","08:30:00","15:00:00","15:30:00","15:30:00","08:30:00","12:00:00",{"$f":"COUNTIF(K16:Q16,\"OFF\")","v":0},{"$f":"COUNTIF(K16:Q16,\"AL\")","v":0}]
[15,"DAVID FRANKLIN",null,null,"Non Voice","FT","F",null,"New","new site","15:30:00","15:30:00","15:00:00","08:30:00","08:30:00","15:00:00","10:00:00",0,0]
[16,"RICHARD CORRIEA",null,null,"Non Voice","FT","F",null,"Old","new site","15:00:00","15:30:00","15:00:00","15:00:00","15:30:00","08:30:00","OFF",1,0]
[17,"AMY HART",null,null,"Non Voice","FT","F",null,"Old","new site","08:30:00","08:30:00","08:30:00","08:30:00","08:30:00","15:00:00","OFF",1,0]
[18,"SEBASTIAN WONG",null,null,"Non Voice","FT","F",null,"Between","new site","08:30:00","15:00:00","15:30:00","08:00:00","08:30:00","08:30:00","OFF",1,0]
[19,"MARTY ROSS",null,null,"Non Voice","FT","F",null,"Old","new site","08:30:00","08:30:00","08:30:00","15:00:00","15:30:00","15:30:00","13:00:00",{"$f":"COUNTIF(K21:Q21,\"OFF\")","v":0},{"$f":"COUNTIF(K21:Q21,\"AL\")","v":0}]
[{"$f":"A26+1","v":25},"ELLEN MOFFATT",null,null,"Non Voice","FT","F",null,"Between","new site","15:00:00","08:30:00","08:30:00","15:00:00","15:30:00","08:00:00","OFF",{"$f":"COUNTIF(K22:Q22,\"OFF\")","v":1},{"$f":"COUNTIF(K22:Q22,\"AL\")","v":0}]
[{"$f":"A24+1","v":21},"VENUS AZAR",null,null,"Non Voice","FT","F",null,"Between","new site","08:30:00","15:00:00","15:30:00","15:30:00","08:00:00","08:00:00","OFF",1,0]
[{"$f":"A21+1","v":20},"JUDY MELINEK",null,null,"Non Voice","FT","F",null,"Between","new site","15:30:00","08:30:00","08:30:00","08:30:00","15:00:00","15:30:00","OFF",{"$f":"COUNTIF(K24:Q24,\"OFF\")","v":1},{"$f":"COUNTIF(K24:Q24,\"AL\")","v":0}]
[{"$f":"A29+1","v":23},"GEORGE GARCIA",null,null,"Non Voice","FT","F",null,"Between","new site","08:30:00","15:30:00","15:00:00","15:30:00","08:00:00","08:30:00","OFF",1,0]
[24,"VICTOR WYRSCH",null,null,"Non Voice","FT","F",null,"Between","new site","08:30:00","08:30:00","15:30:00","15:30:00","08:30:00","15:00:00","OFF",1,0]
[{"$f":"A31+1","v":29},"JOSEPH DRISCOLL",null,null,"Non Voice","FT","F",null,"Between","new site","15:00:00","15:30:00","15:00:00","08:30:00","15:00:00","08:30:00","OFF",{"$f":"COUNTIF(K27:Q27,\"OFF\")","v":1},{"$f":"COUNTIF(K27:Q27,\"AL\")","v":0}]
[{"$f":"A22+1","v":26},"GREGORY SUHR",null,null,"Non Voice","FT","F",null,"Between","new site","08:30:00","08:30:00","08:00:00","15:30:00","15:30:00","15:00:00","13:00:00",0,0]
[{"$f":"A23+1","v":22},"JOHN HANLEY",null,null,"Non Voice","FT","F",null,"Between","new site","08:30:00","08:30:00","08:30:00","15:30:00","15:30:00","15:00:00","10:00:00",{"$f":"COUNTIF(K29:Q29,\"OFF\")","v":0},{"$f":"COUNTIF(K29:Q29,\"AL\")","v":0}]
[{"$f":"A28+1","v":27},"RAYMOND GUZMAN",null,null,"Non Voice","FT","F",null,"Between","new site","15:30:00","15:00:00","08:00:00","08:00:00","AL","AL","OFF",1,2]
[28,"DENISE SCHMITT",null,null,"Non Voice","FT","F",null,"Between","new site","15:00:00","15:00:00","15:30:00","08:30:00","08:30:00","08:00:00","12:00:00",0,0]
[{"$f":"A27+1","v":30},"MONICA FIELDS",null,null,"Non Voice","FT","M",null,"Between",null,"AL","AL","16:00:00","16:00:00","16:00:00","16:00:00","OFF",1,2]
[31,"HARLAN KELLY-JR",null,null,"Non Voice","FT","M",null,"New",null,"16:00:00","16:00:00","16:00:00","16:00:00","10:00:00","09:00:00","OFF",1,0]
[32,"DAVID SHINN",null,null,"Non Voice","FT","M",null,"Between",null,"16:00:00","16:00:00","10:00:00","09:00:00","16:00:00","16:00:00","13:00:00",0,0]
[33,"GARY AMELIO",null,null,"Non Voice","FT","M",null,"New",null,"09:00:00","16:00:00","16:00:00","16:00:00","16:00:00","16:00:00","OFF",1,0]
[34,"JOHN TURSI",null,null,"Non Voice","FT","M",null,"New",null,"16:00:00","16:00:00","09:00:00","09:00:00","16:00:00","16:00:00","OFF",1,0]
[35,"JOSE VELO",null,null,"Non Voice","FT","M",null,"New",null,"16:00:00","10:00:00","16:00:00","16:00:00","16:00:00","16:00:00","OFF",1,0]
[36,"KHOA TRINH",null,null,"Non Voice","FT","M",null,"New","new site","10:00:00","10:00:00","09:00:00","16:00:00","16:00:00","10:00:00","OFF",1,0]
[37,"SUSAN CURRIN",null,null,"Non Voice","FT","M",null,"New",null,"16:00:00","16:00:00","16:00:00","10:00:00","10:00:00","16:00:00","OFF",1,0]
[38,"JAMES BOSCH",null,null,"Non Voice","FT","M",null,"New",null,"16:00:00","16:00:00","16:00:00","16:00:00","09:00:00","10:00:00","OFF",1,0]
[39,"JONES WONG",null,null,"Non Voice","FT","M",null,"New",null,"08:30:00","09:00:00","16:00:00","16:00:00","16:00:00","16:00:00","OFF",1,0]
[40,"BRENDAN WARD",null,null,"Non Voice","FT","M",null,"New",null,"16:00:00","16:00:00","16:00:00","10:00:00","09:00:00","16:00:00","OFF",1,0]
[]
[]
[null,null,null,null,null,null,null,null,null,null,null,null,null,null,null,null,null,{"$f":"COUNTIF(K45:Q45,\"OFF\")","v":0},{"$f":"COUNTIF(K45:Q45,\"AL\")","v":0}]
[null,null,null,null,null,null,null,null,null,null,null,null,null,null,null,null,null,{"$f":"COUNTIF(K46:Q46,\"OFF\")","v":0},{"$f":"COUNTIF(K46:Q46,\"AL\")","v":0}]
[null,null,null,null,null,null,null,null,null,null,null,null,null,null,null,null,null,{"$f":"COUNTIF(K47:Q47,\"OFF\")","v":0},{"$f":"COUNTIF(K47:Q47,\"AL\")","v":0}]
[null,null,null,null,null,null,null,null,null,null,null,null,null,null,null,null,null,{"$f":"COUNTIF(K48:Q48,\"OFF\")","v":0},{"$f":"COUNTIF(K48:Q48,\"AL\")","v":0}]
[]
[]
[]
[]
[null,null,null,null,null,null,null,null,null,"MCD / Digital","Sat","Sun","Mon","Tue","Wed","Thu","Fri"]
[null,null,null,null,null,null,null,null,null,"08:00:00",{"$f":"COUNTIF(K$3:K$48,$J54)","v":3},3,4,4,3,4,0]
[null,null,null,null,null,null,null,null,null,"08:30:00",13,12,10,8,9,10,"OFF"]
[null,null,null,null,null,null,null,null,null,"09:00:00",1,1,2,2,2,1,0]
[null,null,null,null,null,null,null,null,null,"10:00:00",2,2,1,2,2,3,2]
[null,null,null,null,null,null,null,null,null,"15:00:00",7,6,6,7,6,7,0]
[null,null,null,null,null,null,null,null,null,"15:30:00",6,8,9,10,9,5,0]
[null,null,null,null,null,null,null,null,null,"16:00:00",7,7,8,7,7,8,0]
[null,null,null,null,null,null,null,null,null,"Scheduled",{"$f":"SUM(K54:K60)","v":39},39,40,40,38,38,2]
[null,null,null,null,null,null,null,null,null,"OFF",{"$f":"COUNTIF(K$3:K$48,$J62)","v":0},0,0,0,0,1,32]
[null,null,null,null,null,null,null,null,null,"AL",1,1,0,0,2,1,0]
[null,null,null,null,null,null,null,null,null,"Sick",0,0,0,0,0,0,0]
[null,null,null,null,null,null,null,null,null,"Training",0,0,0,0,0,0,0]
[null,null,null,null,null,null,null,null,null,"HC",{"$f":"SUM(K61:K65)","v":40},{"$f":"SUM(L61:L65)","v":40},40,40,40,40,34]

{"sheet":"swap","index":1,"n_rows":16,"n_cols":17,"rows_kept":16,"cut":false,"hidden":false,"merged":[[15,8,17,8],[12,6,12,7],[15,0,17,0],[15,1,17,1],[15,5,17,5],[15,6,17,7]]}
[]
[]
[]
[]
[]
[]
[]
[]
[]
[]
[]
["a","b","c","d","e","f","g","h","i","j","k","l","m","n","o","p","q"]
["name","Sat","col","row","col","swap",{"$f":"IF(B15=B14,FALSE,TRUE)","v":true}]
["JOHN MARTIN",{"$f":"VLOOKUP(A14,Schedule!$B$2:$Q$42,_xlfn.IFS(B13=Schedule!$K$2,10,B13=Schedule!$L$2,11,B13=Schedule!$M$2,12,B13=Schedule!$N$2,13,B13=Schedule!$O$2,14,B13=Schedule!$P$2,15,B13=Schedule!$Q$2,16),0)","v":"15:30:00"},{"$f":"INDEX(A12:Q12,(MATCH(swap!B13,Schedule!B2:Q2,0)+1))&D14+2","v":"k16"},{"$f":"MATCH(swap!A14,Schedule!B2:B42,0)-1","v":14},{"$f":"MATCH(swap!B13,Schedule!C2:R2,0)","v":9},"08:30:00"]
["SEBASTIAN WONG",{"$f":"VLOOKUP(A15,Schedule!$B$2:$Q$42,_xlfn.IFS(B13=Schedule!$K$2,10,B13=Schedule!$L$2,11,B13=Schedule!$M$2,12,B13=Schedule!$N$2,13,B13=Schedule!$O$2,14,B13=Schedule!$P$2,15,B13=Schedule!$Q$2,16),0)","v":"08:30:00"},{"$f":"INDEX(A12:Q12,(MATCH(swap!B13,Schedule!B2:Q2,0)+1))&D15+2","v":"k20"},{"$f":"MATCH(swap!A15,Schedule!B2:B43,0)-1","v":18},{"$f":"MATCH(swap!B13,Schedule!C2:R2,0)","v":9},"15:30:00"]
["اختيار الاسم مطابق للجدول في شيت schedule // يفضل copy & paste","بعد اختيار الاسم يتم تحديد اليوم المراد تبديله من الليست ثم سيتم توضيح الموعد ",null,null,null,"يتم نسخ المواعيد عند الضغط على  swap تلقائى","في حاله ان اول خليه تعطي true يمكن عمل swap // في حاله ان اول خليه تعطى false يعني ان المواعيد متشابهه",null,"Swap لعمل تعديل موعد اول اسم  // swap 2 لعمل تعديل موعد ثاني اسم // يجب عمل swap أولا "]

{"sheet":"filter","index":2,"n_rows":4,"n_cols":1,"rows_kept":4,"cut":false,"hidden":false,"merged":[]}
[]
[]
[]
["FILTER(VSTACK(يتم وضع اسم الجدول الاول, يتم وضع اسم الجدول الثاني),ISNUMBER(SEARCH(خليه البحث,VSTACK(يتم وضع اسم الجدول الأول [ اسم عمود البحث],يتم وضع اسم الجدول الثاني  [اسم عمود البحث للجدول الثاني])&\"*\"&VSTACK(يتم وضع اسم الجدول الاول [اسم عمود البحث الثاني], يتم وضع اسم الجدول الثاني [اسم عمود البحث الثاني ]))),\"Not Found\")"]

{"sheet":"Required","index":3,"n_rows":98,"n_cols":19,"rows_kept":98,"cut":false,"hidden":true,"merged":[]}
["Net Requied","Sun","Mon","Tue","Wed","Thu","Fri","Sat",null,null,null,"Staffing","Sun","Mon","Tue","Wed","Thu","Fri","Sat"]
["06:00:00"]
["06:15:00"]
["06:30:00",null,null,null,null,null,null,null,null,null,null,"06:00:00",1,1,1,1,1,1,1]
["06:45:00",null,null,null,null,null,null,null,null,null,null,"06:30:00",1,1,1,1,1,1,1]
["07:00:00",null,null,null,null,null,null,null,null,null,null,"07:00:00",1,1,1,1,1,1,1]
["07:15:00",null,null,null,null,null,null,null,null,null,null,"07:30:00",1,1,1,1,1,1,1]
["07:30:00",null,null,null,null,null,null,null,null,null,null,"08:00:00",5,5,5,6,5,1,4]
["07:45:00",null,null,null,null,null,null,null,null,null,null,"08:30:00",7,7,7,8,8,1,6]
["08:00:00",{"$f":"M8","v":5},{"$f":"N8","v":5},5,6,5,null,4,null,null,null,"09:00:00",12,13,12,13,10,1,12]
["08:15:00",{"$f":"B10","v":5},{"$f":"C10","v":5},5,6,5,null,4,null,null,null,"09:30:00",13,15,14,14,14,1,14]
["08:30:00",{"$f":"M9","v":7},{"$f":"N9","v":7},7,8,8,null,6,null,null,null,"10:00:00",16,16,16,16,15,8,15]
["08:45:00",{"$f":"B12","v":7},{"$f":"C12","v":7},7,8,8,null,6,null,null,null,"10:30:00",18,19,19,18,17,8,17]
["09:00:00",{"$f":"M10","v":12},{"$f":"N10","v":13},12,13,10,null,12,null,null,null,"11:00:00",21,22,20,19,19,9,18]
["09:15:00",{"$f":"B14","v":12},{"$f":"C14","v":13},12,13,10,null,12,null,null,null,"11:30:00",21,21,22,19,20,7,18]
["09:30:00",{"$f":"M11","v":13},{"$f":"N11","v":15},14,14,14,null,14,null,null,null,"12:00:00",21,21,21,21,19,8,21]
["09:45:00",{"$f":"B16","v":13},{"$f":"C16","v":15},14,14,14,null,14,null,null,null,"12:30:00",23,21,23,22,19,13,21]
["10:00:00",{"$f":"M12","v":16},{"$f":"N12","v":16},16,16,15,8,15,null,null,null,"13:00:00",22,21,21,21,20,14,21]
["10:15:00",{"$f":"B18","v":16},{"$f":"C18","v":16},16,16,15,8,15,null,null,null,"13:30:00",22,23,23,21,21,13,22]
["10:30:00",{"$f":"M13","v":18},{"$f":"N13","v":19},19,18,17,8,17,null,null,null,"14:00:00",23,22,22,20,20,13,22]
["10:45:00",{"$f":"B20","v":18},{"$f":"C20","v":19},19,18,17,8,17,null,null,null,"14:30:00",21,22,22,22,18,12,20]
["11:00:00",{"$f":"M14","v":21},{"$f":"N14","v":22},20,19,19,9,18,null,null,null,"15:00:00",21,22,21,19,19,11,21]
["11:15:00",{"$f":"B22","v":21},{"$f":"C22","v":22},20,19,19,9,18,null,null,null,"15:30:00",21,20,23,21,18,12,21]
["11:30:00",{"$f":"M15","v":21},{"$f":"N15","v":21},22,19,20,7,18,null,null,null,"16:00:00",22,20,21,22,19,11,20]
["11:45:00",{"$f":"B24","v":21},{"$f":"C24","v":21},22,19,20,7,18,null,null,null,"16:30:00",21,20,20,20,17,11,21]
["12:00:00",{"$f":"M16","v":21},{"$f":"N16","v":21},21,21,19,8,21,null,null,null,"17:00:00",20,20,20,20,15,10,19]
["12:15:00",{"$f":"B26","v":21},{"$f":"C26","v":21},21,21,19,8,21,null,null,null,"17:30:00",19,20,20,18,16,10,18]
["12:30:00",{"$f":"M17","v":23},{"$f":"N17","v":21},23,22,19,13,21,null,null,null,"18:00:00",21,21,21,19,18,11,19]
["12:45:00",{"$f":"B28","v":23},{"$f":"C28","v":21},23,22,19,13,21,null,null,null,"18:30:00",20,22,18,19,16,10,19]
["13:00:00",{"$f":"M18","v":22},{"$f":"N18","v":21},21,21,20,14,21,null,null,null,"19:00:00",22,20,21,20,15,10,19]
["13:15:00",{"$f":"B30","v":22},{"$f":"C30","v":21},21,21,20,14,21,null,null,null,"19:30:00",21,21,19,20,17,11,17]
["13:30:00",{"$f":"M19","v":22},{"$f":"N19","v":23},23,21,21,13,22,null,null,null,"20:00:00",21,19,19,19,15,10,18]
["13:45:00",{"$f":"B32","v":22},{"$f":"C32","v":23},23,21,21,13,22,null,null,null,"20:30:00",21,20,18,20,14,9,17]
["14:00:00",{"$f":"M20","v":23},{"$f":"N20","v":22},22,20,20,13,22,null,null,null,"21:00:00",18,17,18,17,13,8,16]
["14:15:00",{"$f":"B34","v":23},{"$f":"C34","v":22},22,20,20,13,22,null,null,null,"21:30:00",16,15,15,13,11,8,15]
["14:30:00",{"$f":"M21","v":21},{"$f":"N21","v":22},22,22,18,12,20,null,null,null,"22:00:00",10,12,11,11,8,1,10]
["14:45:00",{"$f":"B36","v":21},{"$f":"C36","v":22},22,22,18,12,20,null,null,null,"22:30:00",8,8,8,8,5,1,7]
["15:00:00",{"$f":"M22","v":21},{"$f":"N22","v":22},21,19,19,11,21]
["15:15:00",{"$f":"B38","v":21},{"$f":"C38","v":22},21,19,19,11,21,null,null,null,"Total",45.416666666666664,45.583333333333336,45.5,44.333333333333336,38.75,21.166666666666668,43.25]
["15:30:00",{"$f":"M23","v":21},{"$f":"N23","v":20},23,21,18,12,21]
["15:45:00",{"$f":"B40","v":21},{"$f":"C40","v":20},23,21,18,12,21]
["16:00:00",{"$f":"M24","v":22},{"$f":"N24","v":20},21,22,19,11,20]
["16:15:00",{"$f":"B42","v":22},{"$f":"C42","v":20},21,22,19,11,20]
["16:30:00",{"$f":"M25","v":21},{"$f":"N25","v":20},20,20,17,11,21]
["16:45:00",{"$f":"B44","v":21},{"$f":"C44","v":20},20,20,17,11,21]
["17:00:00",{"$f":"M26","v":20},{"$f":"N26","v":20},20,20,15,10,19]
["17:15:00",{"$f":"B46","v":20},{"$f":"C46","v":20},20,20,15,10,19]
["17:30:00",{"$f":"M27","v":19},{"$f":"N27","v":20},20,18,16,10,18]
["17:45:00",{"$f":"B48","v":19},{"$f":"C48","v":20},20,18,16,10,18]
["18:00:00",{"$f":"M28","v":21},{"$f":"N28","v":21},21,19,18,11,19]
["18:15:00",{"$f":"B50","v":21},{"$f":"C50","v":21},21,19,18,11,19]
["18:30:00",{"$f":"M29","v":20},{"$f":"N29","v":22},18,19,16,10,19]
["18:45:00",{"$f":"B52","v":20},{"$f":"C52","v":22},18,19,16,10,19]
["19:00:00",{"$f":"M30","v":22},{"$f":"N30","v":20},21,20,15,10,19]
["19:15:00",{"$f":"B54","v":22},{"$f":"C54","v":20},21,20,15,10,19]
["19:30:00",{"$f":"M31","v":21},{"$f":"N31","v":21},19,20,17,11,17]
["19:45:00",{"$f":"B56","v":21},{"$f":"C56","v":21},19,20,17,11,17]
["20:00:00",{"$f":"M32","v":21},{"$f":"N32","v":19},19,19,15,10,18]
["20:15:00",{"$f":"B58","v":21},{"$f":"C58","v":19},19,19,15,10,18]
["20:30:00",{"$f":"M33","v":21},{"$f":"N33","v":20},18,20,14,9,17]
["20:45:00",{"$f":"B60","v":21},{"$f":"C60","v":20},18,20,14,9,17]
["21:00:00",{"$f":"M34","v":18},{"$f":"N34","v":17},18,17,13,8,16]
["21:15:00",{"$f":"B62","v":18},{"$f":"C62","v":17},18,17,13,8,16]
["21:30:00",{"$f":"M35","v":16},{"$f":"N35","v":15},15,13,11,8,15]
["21:45:00",{"$f":"B64","v":16},{"$f":"C64","v":15},15,13,11,8,15]
["22:00:00",{"$f":"M36","v":10},{"$f":"N36","v":12},11,11,8,null,10]
["22:15:00",{"$f":"B66","v":10},{"$f":"C66","v":12},11,11,8,null,10]
["22:30:00",{"$f":"M37","v":8},{"$f":"N37","v":8},8,8,5,null,7]
["22:45:00",{"$f":"B68","v":8},{"$f":"C68","v":8},8,8,5,null,7]
["23:00:00"]
["23:15:00"]
["23:30:00"]
["23:45:00"]
[1]
[1.0104166666666701]
[1.0208333333333399]
[1.03125]
[1.0416666666666701]
[1.0520833333333399]
[1.0625]
[1.0729166666666701]
[1.0833333333333399]
[1.09375]
[1.1041666666666701]
[1.1145833333333399]
[1.125]
[1.1354166666666701]
[1.1458333333333399]
[1.15625]
[1.1666666666666701]
[1.1770833333333399]
[1.1875]
[1.1979166666666701]
[1.2083333333333399]
[1.21875]
[1.2291666666666701]
[1.2395833333333399]
[null,{"$f":"SUM(B2:B97)","v":1094},{"$f":"SUM(C2:C97)","v":1090},1080,1052,922,494,1016]